BEGIN:VCALENDAR
VERSION:2.0
PRODID:-//eventon.com NONSGML v1.0//EN
CALSCALE:GREGORIAN
METHOD:PUBLISH
BEGIN:VEVENT
UID:69eac7024218c
DTSTAMP:20260424T012730Z
DTSTART:20260619T173000Z
DTEND:20260619T190000Z
LOCATION:Gunnison Library 1 Quartz Street\,  Gunnison\,  CO 81230
SUMMARY:Family Movie Night! Akeela and the Bee
DESCRIPTION:Let&#8217;s celebrate Spelling Bee season! Please join us at 5:
 30 pm at the Gunnison Library on Friday\,  June 19 for a FREE screening of 
 Akeela and the Bee (2006). Bring your coziest blanket and pjs and enjoy thi
 s fun family film. Snacks provided! Free &amp; open to the public.\nhttps:/
 /www.gunnisoncountylibraries.org/events/family-movie-night-akeela-and-the-b
 ee/
URL:https://www.gunnisoncountylibraries.org/events/family-movie-night-akeela-and-the-bee/
END:VEVENT
END:VCALENDAR