BEGIN:VCALENDAR
VERSION:2.0
PRODID:-//eventon.com NONSGML v1.0//EN
CALSCALE:GREGORIAN
METHOD:PUBLISH
BEGIN:VEVENT
UID:69e83d04d0f70
DTSTAMP:20260422T031412Z
DTSTART:20260627T213000Z
DTEND:20260627T223000Z
LOCATION:Gunnison Library 1 Quartz Street\,  Gunnison\,  CO 81230
SUMMARY:Super Saturday Storytime! Reading Rodeo
DESCRIPTION:Join us at the Gunnison Library at 10:30 am on Saturday\,  June
  27 for Super Saturday Storytime! June&#8217;s theme is Reading Rodeo with 
 special guests from the Cattlemen’s days royal court! Stories &amp; activ
 ities for the whole family. Free &amp; open to the public.\nhttps://www.gun
 nisoncountylibraries.org/events/super-saturday-storytime-reading-rodeo/
URL:https://www.gunnisoncountylibraries.org/events/super-saturday-storytime-reading-rodeo/
END:VEVENT
END:VCALENDAR