BEGIN:VCALENDAR
VERSION:2.0
PRODID:-//eventon.com NONSGML v1.0//EN
CALSCALE:GREGORIAN
METHOD:PUBLISH
BEGIN:VEVENT
UID:69e823bedbf5f
DTSTAMP:20260422T012622Z
DTSTART:20260620T030000Z
DTEND:20260620T040000Z
LOCATION:Gunnison Library 1 Quartz Street\,  Gunnison\,  CO 81230
SUMMARY:Family Polka Party w/ Pint Sized Polkas!
DESCRIPTION:Join us at 4 pm at the Gunnison Library on Friday\,  June 19 fo
 r some good old fashioned fun with musical group\,  Pint Sized Polka. Let&#
 8217;s sing and dance together and enjoy Wisconsin Schneider &amp; the Magi
 c of Music! This event is free and open to music lovers of all[..]\nhttps:/
 /www.gunnisoncountylibraries.org/events/family-polka-party-w-pint-sized-pol
 ka-copy/
URL:https://www.gunnisoncountylibraries.org/events/family-polka-party-w-pint-sized-polka-copy/
END:VEVENT
END:VCALENDAR