BEGIN:VCALENDAR
VERSION:2.0
PRODID:-//eventon.com NONSGML v1.0//EN
CALSCALE:GREGORIAN
METHOD:PUBLISH
BEGIN:VEVENT
UID:69e80cbd897fa
DTSTAMP:20260421T234813Z
DTSTART:20260607T010000Z
DTEND:20260607T020000Z
LOCATION:Gunnison Library 1 Quartz Street\,  Gunnison\,  CO 81230
SUMMARY:West African Kora Experience
DESCRIPTION:Join us at the Gunnison Library at 2 pm on Saturday\,  June 6 f
 or an entertaining and immersive West African Kora experience! We&#8217;ll 
 learn how this impressive instrument is built\,  who typically plays it and
  the types of events it is often utilized at. Perfect for the whole family!
  Free[..]\nhttps://www.gunnisoncountylibraries.org/events/west-african-kora
 -experience-2/
URL:https://www.gunnisoncountylibraries.org/events/west-african-kora-experience-2/
END:VEVENT
END:VCALENDAR