BEGIN:VCALENDAR
VERSION:2.0
PRODID:-//eventon.com NONSGML v1.0//EN
CALSCALE:GREGORIAN
METHOD:PUBLISH
BEGIN:VEVENT
UID:69e7f37faca1a
DTSTAMP:20260421T220031Z
DTSTART:20260530T213000Z
DTEND:20260530T223000Z
LOCATION:Gunnison Library 1 Quartz Street\,  Gunnison\,  CO 81230
SUMMARY:Super Saturday Storytime! Listen to the Music w/ Lizzy Plotkin
DESCRIPTION:Join us at the Gunnison Library at 10:30 am on Saturday\,  May 
 30 for Super Saturday Storytime and a Summer Reading Program Kick-off Celeb
 ration! May&#8217;s theme is Listen to the Music with Lizzy Plotkin. Lizzy 
 will lead families in a songwriting excursion inspired by nature. Families 
 will be able to[..]\nhttps://www.gunnisoncountylibraries.org/events/super-s
 aturday-storytime-listen-to-the-music/
URL:https://www.gunnisoncountylibraries.org/events/super-saturday-storytime-listen-to-the-music/
END:VEVENT
END:VCALENDAR