BEGIN:VCALENDAR
VERSION:2.0
PRODID:-//eventon.com NONSGML v1.0//EN
CALSCALE:GREGORIAN
METHOD:PUBLISH
BEGIN:VEVENT
UID:69e59be78abba
DTSTAMP:20260420T032215Z
DTSTART:20260729T220000Z
DTEND:20260729T223000Z
LOCATION:Crested Butte Library
SUMMARY:Wednesday CB South Storytime
DESCRIPTION:Story Time comes to CB South Red Mountain Park on Wednesdays fr
 om 11-11:30 am! Meet on the park side of Sunset Hall for an outdoor stories
 \,  games and fun for all ages.\nhttps://www.gunnisoncountylibraries.org/ev
 ents/wednesday-cb-south-storytime-5/var/ri-9.l-L1
URL:https://www.gunnisoncountylibraries.org/events/wednesday-cb-south-storytime-5/var/ri-9.l-L1
END:VEVENT
END:VCALENDAR