BEGIN:VCALENDAR
VERSION:2.0
PRODID:-//eventon.com NONSGML v1.0//EN
CALSCALE:GREGORIAN
METHOD:PUBLISH
BEGIN:VEVENT
UID:69e8a15a5f3f6
DTSTAMP:20260422T102218Z
DTSTART:20260402T120000Z
DTEND:20260402T130000Z
LOCATION:
SUMMARY:Spanish Conversational Hour
DESCRIPTION:Join us from noon-1pm at the Gunnison Library for a new\,  week
 ly Spanish Conversational Practice hour. Practice your Spanish with members
  of your community. All abilities are welcome and this fun opportunity is f
 ree and open to the public. Meeting weekly on Thursdays in Room A.\nhttps:/
 /www.gunnisoncountylibraries.org/events/spanish-conversational-hour/
URL:https://www.gunnisoncountylibraries.org/events/spanish-conversational-hour/
END:VEVENT
END:VCALENDAR