BEGIN:VCALENDAR
VERSION:2.0
PRODID:-//eventon.com NONSGML v1.0//EN
CALSCALE:GREGORIAN
METHOD:PUBLISH
BEGIN:VEVENT
UID:69e8b063401ef
DTSTAMP:20260422T112627Z
DTSTART:20260311T050000Z
DTEND:20260311T060000Z
LOCATION:Crested Butte Library
SUMMARY:March 2026 Crafternoon in CB: Book Bedazzling
DESCRIPTION:Join us at the Crested Butte Library at 6 pm on Tuesday\,  Marc
 h 10 for Crafternoon. For March we&#8217;ll be making bedazzled books! Brin
 g your own book to bedazzle or choose from a selection we&#8217;ll have. NE
 W: Please register for the event by clicking here. Crafternoons are monthly
  maker-oriented sessions[..]\nhttps://www.gunnisoncountylibraries.org/event
 s/march-crafternoon-in-cb/
URL:https://www.gunnisoncountylibraries.org/events/march-crafternoon-in-cb/
END:VEVENT
END:VCALENDAR