BEGIN:VCALENDAR
VERSION:2.0
PRODID:-//eventon.com NONSGML v1.0//EN
CALSCALE:GREGORIAN
METHOD:PUBLISH
BEGIN:VEVENT
UID:69eba3d25cbd4
DTSTAMP:20260424T170938Z
DTSTART:20260227T040000Z
DTEND:20260227T060000Z
LOCATION:Thai Smile
SUMMARY:Books-n-Bars Book Club: February 2026
DESCRIPTION:For those who like to imbibe in books\,  beverages or both! Ple
 ase join us at Thai Smile at 5:00 pm on Thursday\,  February 26 for the nex
 t meeting of the Books-n-Bars. Drinks &amp; apps at 5\,  Book Discussion at
  5:30. We will be discussing: The Berry Pickers by Amanda Peters[..]\nhttps
 ://www.gunnisoncountylibraries.org/events/books-n-bars-book-club-february-2
 026/
URL:https://www.gunnisoncountylibraries.org/events/books-n-bars-book-club-february-2026/
END:VEVENT
END:VCALENDAR