BEGIN:VCALENDAR
VERSION:2.0
PRODID:-//eventon.com NONSGML v1.0//EN
CALSCALE:GREGORIAN
METHOD:PUBLISH
BEGIN:VEVENT
UID:69e7b07a22ec7
DTSTAMP:20260421T171434Z
DTSTART:20260212T180000Z
DTEND:20260212T193000Z
LOCATION:
SUMMARY:Author Talk: C. William Langsfeld
DESCRIPTION:Join us at the Gunnison Library at 6pm on Thursday\,  February 
 12\,  for an author talk with local writer C. William Langsfeld. In his new
  book Salvation\,  local author C. William Langsfeld explores an emotionall
 y charged Western noir set in a small rural Colorado town locked in winter 
 and crisis.[..]\nhttps://www.gunnisoncountylibraries.org/events/author-talk
 -c-william-langsfeld/
URL:https://www.gunnisoncountylibraries.org/events/author-talk-c-william-langsfeld/
END:VEVENT
END:VCALENDAR