BEGIN:VCALENDAR
VERSION:2.0
PRODID:-//eventon.com NONSGML v1.0//EN
CALSCALE:GREGORIAN
METHOD:PUBLISH
BEGIN:VEVENT
UID:69e8465a3dd4b
DTSTAMP:20260422T035402Z
DTSTART:20260110T213000Z
DTEND:20260110T223000Z
LOCATION:Gunnison Library 1 Quartz Street\,  Gunnison\,  CO 81230
SUMMARY:Super Saturday Storytime!
DESCRIPTION:Join us at the Gunnison Library along with The Trailhead Childr
 en&#8217;s Museum at 10:30 am on Saturday\,  January 10 for Super Saturday 
 Storytime. January&#8217;s theme is Hibernation Hangout! Stories followed b
 y building challenges with Rigamajig! Wear your jammies! Free &amp; open to
  the public.\nhttps://www.gunnisoncountylibraries.org/events/super-saturday
 -storytime-january-2/
URL:https://www.gunnisoncountylibraries.org/events/super-saturday-storytime-january-2/
END:VEVENT
END:VCALENDAR