BEGIN:VCALENDAR
VERSION:2.0
PRODID:-//eventon.com NONSGML v1.0//EN
CALSCALE:GREGORIAN
METHOD:PUBLISH
BEGIN:VEVENT
UID:69e85f35d13ac
DTSTAMP:20260422T054005Z
DTSTART:20260106T173000Z
DTEND:20260106T183000Z
LOCATION:Gunnison Library 1 Quartz Street\,  Gunnison\,  CO 81230
SUMMARY:Cookbook Club
DESCRIPTION:Join us for a deliciously fun evening of shared meals and conve
 rsation at the library&#8217;s new Cookbook Club! Meeting on the first Tues
 day of each month\,  January 6 will be our next meet-up from 5:30-6:30pm at
  the Gunnison Library. Each month\,  we’ll explore a new cookbook and mee
 t potluck style—everyone[..]\nhttps://www.gunnisoncountylibraries.org/eve
 nts/cookbook-club-january/
URL:https://www.gunnisoncountylibraries.org/events/cookbook-club-january/
END:VEVENT
END:VCALENDAR