BEGIN:VCALENDAR
VERSION:2.0
PRODID:-//eventon.com NONSGML v1.0//EN
CALSCALE:GREGORIAN
METHOD:PUBLISH
BEGIN:VEVENT
UID:69e874ca51a5d
DTSTAMP:20260422T071210Z
DTSTART:20251210T050000Z
DTEND:20251210T060000Z
LOCATION:Crested Butte Library
SUMMARY:December 2025 Crafternoon in CB: Holiday Gift Bags
DESCRIPTION:Join us at the Crested Butte Library at 6 pm on Tuesday\,  Dece
 mber 9 for Crafternoon. For December we&#8217;ll be making DIY Holiday Gift
  Bags. Please RSVP to dylan@gunnisoncountylibraries.org.  Crafternoons are
  monthly maker-oriented sessions with different projects every month for te
 ens and adults. All supplies and basic instructions are provided.[..]\nhttp
 s://www.gunnisoncountylibraries.org/events/december-2025-crafternoon-in-cb/
URL:https://www.gunnisoncountylibraries.org/events/december-2025-crafternoon-in-cb/
END:VEVENT
END:VCALENDAR