BEGIN:VCALENDAR
VERSION:2.0
PRODID:-//eventon.com NONSGML v1.0//EN
CALSCALE:GREGORIAN
METHOD:PUBLISH
BEGIN:VEVENT
UID:69e88c2b7d7bc
DTSTAMP:20260422T085155Z
DTSTART:20251219T040000Z
DTEND:20251219T050000Z
LOCATION:Gunnison Library 1 Quartz Street\,  Gunnison\,  CO 81230
SUMMARY:December 2025 Crafternoon: Holiday Cookie Decorating Workshop
DESCRIPTION:Join us at the Gunnison Library at 5 pm on Thursday\,  December
  18 for Crafternoon. For December we&#8217;ll be joined by ultra-talented\,
   local baker Shaylea McMillan for a Holiday Cookie Decorating Workshop. RE
 GISTRATION IS FULL FOR THIS EVENT. Crafternoons are monthly maker-oriented 
 sessions with different projects every month for teens[..]\nhttps://www.gun
 nisoncountylibraries.org/events/december-2025-crafternoon/
URL:https://www.gunnisoncountylibraries.org/events/december-2025-crafternoon/
END:VEVENT
END:VCALENDAR