BEGIN:VCALENDAR
VERSION:2.0
PRODID:-//eventon.com NONSGML v1.0//EN
CALSCALE:GREGORIAN
METHOD:PUBLISH
BEGIN:VEVENT
UID:69e8a3183dd79
DTSTAMP:20260422T102944Z
DTSTART:20251211T170000Z
DTEND:20251211T180000Z
LOCATION:Gunnison Library 1 Quartz Street\,  Gunnison\,  CO 81230
SUMMARY:Family Breakdancing Class!
DESCRIPTION:Please join us at 5 pm at the Gunnison Library on Thursday\,  D
 ecember 11 for a Family Breakdancing Class. Coach Cuba of Denver&#8217;s BB
 oy Factory\,  will instruct participants of all ages on Breakdancing! Free 
 and open to the public.\nhttps://www.gunnisoncountylibraries.org/events/fam
 ily-breakdancing-class-dec/
URL:https://www.gunnisoncountylibraries.org/events/family-breakdancing-class-dec/
END:VEVENT
END:VCALENDAR