BEGIN:VCALENDAR
VERSION:2.0
PRODID:-//eventon.com NONSGML v1.0//EN
CALSCALE:GREGORIAN
METHOD:PUBLISH
BEGIN:VEVENT
UID:69e8d09d8bfa1
DTSTAMP:20260422T134357Z
DTSTART:20251220T213000Z
DTEND:20251220T230000Z
LOCATION:Crested Butte Library
SUMMARY:Santa Storytime in CB!
DESCRIPTION:Please join us at the Crested Butte Library at 10:30 am on Satu
 rday\,  December 20 for story time with Santa! Enjoy some cozy holiday stor
 ies read by Kris Kringle himself. There will be cookies and cocoa as well a
 s a candy cane craft! This event is free &amp; open to[..]\nhttps://www.gun
 nisoncountylibraries.org/events/santa-storytime-in-cb/
URL:https://www.gunnisoncountylibraries.org/events/santa-storytime-in-cb/
END:VEVENT
END:VCALENDAR