BEGIN:VCALENDAR
VERSION:2.0
PRODID:-//eventon.com NONSGML v1.0//EN
CALSCALE:GREGORIAN
METHOD:PUBLISH
BEGIN:VEVENT
UID:69e9dc2f34229
DTSTAMP:20260423T084535Z
DTSTART:20251202T173000Z
DTEND:20251202T183000Z
LOCATION:Gunnison Library 1 Quartz Street\,  Gunnison\,  CO 81230
SUMMARY:Cookbook Club
DESCRIPTION:Join us for a deliciously fun evening of shared meals and conve
 rsation at the library&#8217;s new Cookbook Club! Meeting on the first Tues
 day of each month\,  December 2 will be our next meet-up from 5:30-6:30pm a
 t the Gunnison Library. Each month\,  we’ll explore a new cookbook and me
 et potluck style—everyone[..]\nhttps://www.gunnisoncountylibraries.org/ev
 ents/cookbook-club-2/
URL:https://www.gunnisoncountylibraries.org/events/cookbook-club-2/
END:VEVENT
END:VCALENDAR