BEGIN:VCALENDAR
VERSION:2.0
PRODID:-//eventon.com NONSGML v1.0//EN
CALSCALE:GREGORIAN
METHOD:PUBLISH
BEGIN:VEVENT
UID:69e9c1e1809c2
DTSTAMP:20260423T065321Z
DTSTART:20251121T040000Z
DTEND:20251121T050000Z
LOCATION:Gunnison Library 1 Quartz Street\,  Gunnison\,  CO 81230
SUMMARY:November 2025 Crafternoon: Yarn-wrapped Words
DESCRIPTION:Join us at the Gunnison Library at 5 pm on Thursday\,  November
  20 for Crafternoon. For November we&#8217;ll be making yarn-wrapped words.
  Please RSVP to ellen@gunnisoncountylibraries.org.  Crafternoons are month
 ly maker-oriented sessions with different projects every month for teens an
 d adults. All supplies and basic instructions are provided. Free &amp; open
 [..]\nhttps://www.gunnisoncountylibraries.org/events/november-2025-craftern
 oon/
URL:https://www.gunnisoncountylibraries.org/events/november-2025-crafternoon/
END:VEVENT
END:VCALENDAR