BEGIN:VCALENDAR
VERSION:2.0
PRODID:-//eventon.com NONSGML v1.0//EN
CALSCALE:GREGORIAN
METHOD:PUBLISH
BEGIN:VEVENT
UID:69e9aa147430c
DTSTAMP:20260423T051148Z
DTSTART:20251113T180000Z
DTEND:20251113T200000Z
LOCATION:
SUMMARY:Western Film presents: Mountainfilm on Tour!
DESCRIPTION:Western Film presents Telluride’s Mountainfilm in Gunnison! J
 oin the library for two nights of FREE films at the new Mountaineer Cinema 
 at Western. Friday evening features a family-friendly lineup. Mountainfilm 
 is a nonprofit inspiring audiences to create a better world. 6pm on Thursda
 y\,  11/13 + Friday\,  11/14 (family night) at[..]\nhttps://www.gunnisoncou
 ntylibraries.org/events/western-film-presents-mountainfilm-on-tour/
URL:https://www.gunnisoncountylibraries.org/events/western-film-presents-mountainfilm-on-tour/
END:VEVENT
END:VCALENDAR