BEGIN:VCALENDAR
VERSION:2.0
PRODID:-//eventon.com NONSGML v1.0//EN
CALSCALE:GREGORIAN
METHOD:PUBLISH
BEGIN:VEVENT
UID:69e99345e01ad
DTSTAMP:20260423T033429Z
DTSTART:20251108T213000Z
DTEND:20251108T223000Z
LOCATION:Gunnison Library 1 Quartz Street\,  Gunnison\,  CO 81230
SUMMARY:Super Saturday Storytime!
DESCRIPTION:Join us at the Gunnison Library along with The Trailhead Childr
 en&#8217;s Museum at 10:30 am on Saturday\,  November 8 for Super Saturday 
 Storytime. November&#8217;s theme is Building Bonanza! Stories followed by 
 building challenges with Rigamajig! Free &amp; open to the public.\nhttps:/
 /www.gunnisoncountylibraries.org/events/super-saturday-storytime-november-2
 /
URL:https://www.gunnisoncountylibraries.org/events/super-saturday-storytime-november-2/
END:VEVENT
END:VCALENDAR