BEGIN:VCALENDAR
VERSION:2.0
PRODID:-//eventon.com NONSGML v1.0//EN
CALSCALE:GREGORIAN
METHOD:PUBLISH
BEGIN:VEVENT
UID:69e99ebf6b3d9
DTSTAMP:20260423T042327Z
DTSTART:20251121T043000Z
DTEND:20251121T060000Z
LOCATION:The Bruhaus
SUMMARY:Books-n-Bars Book Club: November 2025
DESCRIPTION:For those who like to imbibe in books\,  beverages or both! Ple
 ase join us at The BRUHAUS at 5:30 pm on Thursday\,  November 20 for the ne
 xt meeting of the Books-n-Bars. We will be discussing: The Island of Missin
 g Trees by Elif Shafak Two teenagers\,  a Greek Cypriot and a[..]\nhttps://
 www.gunnisoncountylibraries.org/events/books-n-bars-book-club-november-2025
 /
URL:https://www.gunnisoncountylibraries.org/events/books-n-bars-book-club-november-2025/
END:VEVENT
END:VCALENDAR