BEGIN:VCALENDAR
VERSION:2.0
PRODID:-//eventon.com NONSGML v1.0//EN
CALSCALE:GREGORIAN
METHOD:PUBLISH
BEGIN:VEVENT
UID:69e987943065e
DTSTAMP:20260423T024436Z
DTSTART:20251108T220000Z
DTEND:20251109T000000Z
LOCATION:Gunnison Library 1 Quartz Street\,  Gunnison\,  CO 81230
SUMMARY:Winter Clothing Swap!
DESCRIPTION:Join us at the Gunnison Library from 11-1 pm on Saturday\,  Nov
 ember 8 for a Winter Clothing Swap! Accepting gently used Winter Clothing a
 nd Accessories for ALL AGES at the front desk until the day of the swap. Th
 ere is no need to contribute to participate! Let&#8217;s keep each other[..
 ]\nhttps://www.gunnisoncountylibraries.org/events/winter-clothing-swap-2/
URL:https://www.gunnisoncountylibraries.org/events/winter-clothing-swap-2/
END:VEVENT
END:VCALENDAR