BEGIN:VCALENDAR
VERSION:2.0
PRODID:-//eventon.com NONSGML v1.0//EN
CALSCALE:GREGORIAN
METHOD:PUBLISH
BEGIN:VEVENT
UID:69e9724e0ffdd
DTSTAMP:20260423T011350Z
DTSTART:20251104T223000Z
DTEND:20251105T003000Z
LOCATION:Gunnison Library 1 Quartz Street\,  Gunnison\,  CO 81230
SUMMARY:Lunchtime Spanish Classes
DESCRIPTION:The Gunnison Library presents Lunchtime Spanish Intensive for t
 he Gunnison Valley! Tuesdays &amp; Thursdays November 4 &#8211; December 11
  10 total classes with instructor Karen Immerso 11:30-12:30 Beginner 12:30-
 1:30 Advanced Beginner/Intermediate Classes are free but pre-registration i
 s requested. Please plan to make a commitment to come to as many classes[..
 ]\nhttps://www.gunnisoncountylibraries.org/events/lunchtime-spanish-fall-20
 25/
URL:https://www.gunnisoncountylibraries.org/events/lunchtime-spanish-fall-2025/
END:VEVENT
END:VCALENDAR