BEGIN:VCALENDAR
VERSION:2.0
PRODID:-//eventon.com NONSGML v1.0//EN
CALSCALE:GREGORIAN
METHOD:PUBLISH
BEGIN:VEVENT
UID:69e95c0c1710c
DTSTAMP:20260422T233852Z
DTSTART:20251104T173000Z
DTEND:20251104T183000Z
LOCATION:Gunnison Library 1 Quartz Street\,  Gunnison\,  CO 81230
SUMMARY:Cookbook Club
DESCRIPTION:Join us for a deliciously fun evening of shared meals and conve
 rsation at the library&#8217;s new Cookbook Club! Meeting on the first Tues
 day of each month\,  November 4 will be our first meet-up from 5:30-6:30pm 
 at the Gunnison Library. Each month\,  we’ll explore a new cookbook and m
 eet potluck style—everyone[..]\nhttps://www.gunnisoncountylibraries.org/e
 vents/cookbook-club/
URL:https://www.gunnisoncountylibraries.org/events/cookbook-club/
END:VEVENT
END:VCALENDAR