BEGIN:VCALENDAR
VERSION:2.0
PRODID:-//eventon.com NONSGML v1.0//EN
CALSCALE:GREGORIAN
METHOD:PUBLISH
BEGIN:VEVENT
UID:69e92e4aa743b
DTSTAMP:20260422T202338Z
DTSTART:20251018T160000Z
DTEND:20251018T170000Z
LOCATION:Gunnison Library 1 Quartz Street\,  Gunnison\,  CO 81230
SUMMARY:Family Breakdancing Class!
DESCRIPTION:Please join us at 4 pm at the Gunnison Library on Saturday\,  O
 ctober 18 for a Family Breakdancing Class. Guest artist Ian Flaws\,  owner 
 of Denver&#8217;s BBoy Factory\,  will instruct participants of all ages on
  Breakdancing! Free and open to the public.\nhttps://www.gunnisoncountylibr
 aries.org/events/family-breakdancing-class/
URL:https://www.gunnisoncountylibraries.org/events/family-breakdancing-class/
END:VEVENT
END:VCALENDAR