BEGIN:VCALENDAR
VERSION:2.0
PRODID:-//eventon.com NONSGML v1.0//EN
CALSCALE:GREGORIAN
METHOD:PUBLISH
BEGIN:VEVENT
UID:69e92bfa2dac3
DTSTAMP:20260422T201346Z
DTSTART:20251019T150000Z
DTEND:20251019T160000Z
LOCATION:Crested Butte Library
SUMMARY:Graffiti Art Class
DESCRIPTION:Please join us at 3 pm at the Crested Butte Library on Sunday\,
   October 19 for a Graffiti Art Class. Guest artist Ian Flaws\,  owner of D
 enver&#8217;s BBoy Factory\,  will instruct participants (8 and older) on G
 raffiti Art! Free and open to the public.\nhttps://www.gunnisoncountylibrar
 ies.org/events/graffiti-art-class/
URL:https://www.gunnisoncountylibraries.org/events/graffiti-art-class/
END:VEVENT
END:VCALENDAR