BEGIN:VCALENDAR
VERSION:2.0
PRODID:-//eventon.com NONSGML v1.0//EN
CALSCALE:GREGORIAN
METHOD:PUBLISH
BEGIN:VEVENT
UID:69e94297670f6
DTSTAMP:20260422T215015Z
DTSTART:20251017T173000Z
DTEND:20251017T190000Z
LOCATION:Gunnison Library 1 Quartz Street\,  Gunnison\,  CO 81230
SUMMARY:Movie Night! Fantastic Mr. Fox
DESCRIPTION:Please join us at 5:30 pm at the Gunnison Library on Friday\,  
 October 17 for a FREE screening of Fantastic Mr. Fox to celebrate the 6 Poi
 nts Book Club! Snacks provided. Free &amp; open to the public. 2009 | Rated
  PG | 1 hr\,  27 min An urbane fox cannot[..]\nhttps://www.gunnisoncountyli
 braries.org/events/movie-night-fantastic-mr-fox/
URL:https://www.gunnisoncountylibraries.org/events/movie-night-fantastic-mr-fox/
END:VEVENT
END:VCALENDAR