BEGIN:VCALENDAR
VERSION:2.0
PRODID:-//eventon.com NONSGML v1.0//EN
CALSCALE:GREGORIAN
METHOD:PUBLISH
BEGIN:VEVENT
UID:69e94857c3390
DTSTAMP:20260422T221447Z
DTSTART:20251027T180000Z
DTEND:20251027T190000Z
LOCATION:
SUMMARY:Colorado Trail Travelog
DESCRIPTION:Join us at 6pm on Monday\,  October 27 at the Crested Butte Lib
 rary for a Colorado Trail Travelog. 56 Days\,  537 Miles\,  1 Trail\,  a 10
  Year Old\,  a Mom\,  an Amazing Trail Fairy Team\,  and a whole lotta adve
 nture.  Our family spent 56 days thru-hiking the Colorado Trail this summ
 er. [..]\nhttps://www.gunnisoncountylibraries.org/events/colorado-trail-tr
 avelog/
URL:https://www.gunnisoncountylibraries.org/events/colorado-trail-travelog/
END:VEVENT
END:VCALENDAR