BEGIN:VCALENDAR
VERSION:2.0
PRODID:-//eventon.com NONSGML v1.0//EN
CALSCALE:GREGORIAN
METHOD:PUBLISH
BEGIN:VEVENT
UID:69ec9d3e90083
DTSTAMP:20260425T105350Z
DTSTART:20251003T010000Z
DTEND:20251003T020000Z
LOCATION:Gunnison Library 1 Quartz Street\,  Gunnison\,  CO 81230
SUMMARY:Gunny GoodReads Book Club: October 2025
DESCRIPTION:Please join us at 2pm on Thursday\,  October 2 for the next mee
 ting of the Gunny GoodReads Book Club. Read &amp; discuss: Absolution by Al
 ice McDermott Alice McDermott&#8217;s novel Absolution is set in 1963 Saigo
 n\,  focusing on the lives of American military wives\,  particularly Trici
 a and Charlene\,  who form an[..]\nhttps://www.gunnisoncountylibraries.org/
 events/gunny-goodreads-book-club-october-2025/
URL:https://www.gunnisoncountylibraries.org/events/gunny-goodreads-book-club-october-2025/
END:VEVENT
END:VCALENDAR