BEGIN:VCALENDAR
VERSION:2.0
PRODID:-//eventon.com NONSGML v1.0//EN
CALSCALE:GREGORIAN
METHOD:PUBLISH
BEGIN:VEVENT
UID:69ecb5935cca5
DTSTAMP:20260425T123739Z
DTSTART:20250926T043000Z
DTEND:20250926T060000Z
LOCATION:The Eldo
SUMMARY:Books-n-Bars Book Club: September 2025
DESCRIPTION:For those who like to imbibe in books\,  beverages or both! Ple
 ase join us at The Eldo at 5:30 pm on Thursday\,  September 25 for the next
  meeting of the Books-n-Bars. We will be discussing: The Giver of Stars by 
 Jojo Moyes The Giver of Stars is a 2019 historical[..]\nhttps://www.gunniso
 ncountylibraries.org/events/books-n-bars-book-club-september-2025/
URL:https://www.gunnisoncountylibraries.org/events/books-n-bars-book-club-september-2025/
END:VEVENT
END:VCALENDAR