BEGIN:VCALENDAR
VERSION:2.0
PRODID:-//eventon.com NONSGML v1.0//EN
CALSCALE:GREGORIAN
METHOD:PUBLISH
BEGIN:VEVENT
UID:69ebbb6031cce
DTSTAMP:20260424T185008Z
DTSTART:20250810T010000Z
DTEND:20250810T020000Z
LOCATION:Gunnison Library 1 Quartz Street\,  Gunnison\,  CO 81230
SUMMARY:A Special Performance by Chaski Quartet
DESCRIPTION:Please join us at the Gunnison Library on Saturday\,  August 9 
 at 2 pm for a special\,  free matinee performance by Chaski Quartet. Descri
 bed in the Gunnison Country Times as making â€śmusic for human connectionâ€
 ť\,  Chaski Quartet returns to the Gunnison County Library to perform the m
 usic of Dvorak\,  Haydn\, [..]\nhttps://www.gunnisoncountylibraries.org/eve
 nts/a-special-performance-by-chaski-quartet/
URL:https://www.gunnisoncountylibraries.org/events/a-special-performance-by-chaski-quartet/
END:VEVENT
END:VCALENDAR