BEGIN:VCALENDAR
VERSION:2.0
PRODID:-//eventon.com NONSGML v1.0//EN
CALSCALE:GREGORIAN
METHOD:PUBLISH
BEGIN:VEVENT
UID:69ebd3c9dce7b
DTSTAMP:20260424T203417Z
DTSTART:20250801T153000Z
DTEND:20250801T170000Z
LOCATION:Majestic Theatre Crested Butte
SUMMARY:Free Family Movie at the Majestic & Birthday Party for Harry P!
DESCRIPTION:Join us at 3:30 pm at the Majestic Theater in Crested Butte on 
 Friday\,  August 1 for a FREE showing of Harry Potter and the Sorcerer&#821
 7;s Stone. This screening is a celebration of the Six Points Book Club\,  w
 ho recently read the epic first book of the Harry Potter series.[..]\nhttps
 ://www.gunnisoncountylibraries.org/events/free-family-movie-at-the-majestic
 -birthday-party-for-harry-p/
URL:https://www.gunnisoncountylibraries.org/events/free-family-movie-at-the-majestic-birthday-party-for-harry-p/
END:VEVENT
END:VCALENDAR