BEGIN:VCALENDAR
VERSION:2.0
PRODID:-//eventon.com NONSGML v1.0//EN
CALSCALE:GREGORIAN
METHOD:PUBLISH
BEGIN:VEVENT
UID:69ebd9bfc5e2d
DTSTAMP:20260424T205943Z
DTSTART:20250713T140000Z
DTEND:20250713T153000Z
LOCATION:Gunnison Library 1 Quartz Street\,  Gunnison\,  CO 81230
SUMMARY:Sundaes & Sidewalk Chalk
DESCRIPTION:Please join us at 2pm at the Gunnison Library on Sunday\,  July
  13 for Sundaes &amp; Sidewalk Chalk! This is a FREE Community Art &amp; Ic
 e Cream Celebration! Reserve a sidewalk square (kids + adults divisions!) o
 r stop by to watch the art unfold and vote for your favorites. You[..]\nhtt
 ps://www.gunnisoncountylibraries.org/events/sundaes-sidewalk-chalk/
URL:https://www.gunnisoncountylibraries.org/events/sundaes-sidewalk-chalk/
END:VEVENT
END:VCALENDAR