BEGIN:VCALENDAR
VERSION:2.0
PRODID:-//eventon.com NONSGML v1.0//EN
CALSCALE:GREGORIAN
METHOD:PUBLISH
BEGIN:VEVENT
UID:69ebc395d5a32
DTSTAMP:20260424T192509Z
DTSTART:20250625T043000Z
DTEND:20250625T060000Z
LOCATION:The Eldo
SUMMARY:Books-n-Bars Book Club: June 2025
DESCRIPTION:For those who like to imbibe in books\,  beverages or both! Ple
 ase join us at The Eldo at 5:30 pm on Tuesday\,  June 24 for the next meeti
 ng of the Books-n-Bars. We will be discussing: When We Were Real by Daryl G
 regory From multiple award-winning author Daryl Gregory comes a[..]\nhttps:
 //www.gunnisoncountylibraries.org/events/books-n-bars-book-club-june/
URL:https://www.gunnisoncountylibraries.org/events/books-n-bars-book-club-june/
END:VEVENT
END:VCALENDAR