BEGIN:VCALENDAR
VERSION:2.0
PRODID:-//eventon.com NONSGML v1.0//EN
CALSCALE:GREGORIAN
METHOD:PUBLISH
BEGIN:VEVENT
UID:69ebacd735c9f
DTSTAMP:20260424T174807Z
DTSTART:20250604T220000Z
DTEND:20250604T223000Z
LOCATION:Crested Butte Library
SUMMARY:Wednesday CB South Storytime
DESCRIPTION:Story Time comes to CB South Red Mountain Park on Wednesdays fr
 om 11-11:30 am! Meet on the park side of Sunset Hall for an outdoor stories
 \,  games and fun for all ages.\nhttps://www.gunnisoncountylibraries.org/ev
 ents/wednesday-cb-south-storytime-4/
URL:https://www.gunnisoncountylibraries.org/events/wednesday-cb-south-storytime-4/
END:VEVENT
END:VCALENDAR