BEGIN:VCALENDAR
VERSION:2.0
PRODID:-//eventon.com NONSGML v1.0//EN
CALSCALE:GREGORIAN
METHOD:PUBLISH
BEGIN:VEVENT
UID:69ebeca86f518
DTSTAMP:20260424T222024Z
DTSTART:20250607T213000Z
DTEND:20250607T223000Z
LOCATION:Gunnison Library 1 Quartz Street\,  Gunnison\,  CO 81230
SUMMARY:Super Saturday Storytime!
DESCRIPTION:Join us at the Gunnison Library at 10:30 am on Saturday\,  June
  7 for Super Saturday Storytime. We will be joined by Tenderfoot Childcare 
 Center&#8217;s Cool Kids Club for June&#8217;s theme of Solar Soiree! Stori
 es and activity from the Trailhead Children&#8217;s Museum for the whole fa
 mily. Free &amp; open to[..]\nhttps://www.gunnisoncountylibraries.org/event
 s/super-saturday-storytime-june/
URL:https://www.gunnisoncountylibraries.org/events/super-saturday-storytime-june/
END:VEVENT
END:VCALENDAR