BEGIN:VCALENDAR
VERSION:2.0
PRODID:-//eventon.com NONSGML v1.0//EN
CALSCALE:GREGORIAN
METHOD:PUBLISH
BEGIN:VEVENT
UID:69ec096d130a0
DTSTAMP:20260425T002309Z
DTSTART:20250602T003000Z
DTEND:20250602T013000Z
LOCATION:Gunnison Library 1 Quartz Street\,  Gunnison\,  CO 81230
SUMMARY:FOAM PARTY! Summer Kick-Off
DESCRIPTION:Please join us at the Gunnison Library at 1:30 pm on Sunday\,  
 June 1 for a FOAM PARTY to kick off summer! Let&#8217;s all dance and play 
 together in the foamy fun! Change of clothes or swimsuits encouraged. Bring
  a towel! This event is free and open to the public.\nhttps://www.gunnisonc
 ountylibraries.org/events/foam-party-2/
URL:https://www.gunnisoncountylibraries.org/events/foam-party-2/
END:VEVENT
END:VCALENDAR