BEGIN:VCALENDAR
VERSION:2.0
PRODID:-//eventon.com NONSGML v1.0//EN
CALSCALE:GREGORIAN
METHOD:PUBLISH
BEGIN:VEVENT
UID:69e4c423bf72f
DTSTAMP:20260419T120139Z
DTSTART:20250117T040000Z
DTEND:20250117T050000Z
LOCATION:Gunnison Library 1 Quartz Street\,  Gunnison\,  CO 81230
SUMMARY:January 2025 Crafternoon: Paper Marbling
DESCRIPTION:Join us at the Gunnison Library at 5 pm on Thursday\,  January 
 16 for Crafternoon. For January we will be experimenting with paper marblin
 g\,  a mesmerizing and satisfying practice dating back to the 12th century!
  Crafternoons are monthly maker-oriented sessions with different projects e
 very month for teens and adults. All[..]\nhttps://www.gunnisoncountylibrari
 es.org/events/january-2025-crafternoon-paper-marbling/
URL:https://www.gunnisoncountylibraries.org/events/january-2025-crafternoon-paper-marbling/
END:VEVENT
END:VCALENDAR