BEGIN:VCALENDAR
VERSION:2.0
PRODID:-//eventon.com NONSGML v1.0//EN
CALSCALE:GREGORIAN
METHOD:PUBLISH
BEGIN:VEVENT
UID:69e4d5b278b8b
DTSTAMP:20260419T131634Z
DTSTART:20250207T010000Z
DTEND:20250207T020000Z
LOCATION:Gunnison Library 1 Quartz Street\,  Gunnison\,  CO 81230
SUMMARY:Gunny GoodReads Book Club: February
DESCRIPTION:Please join us at 2pm on Thursday\,  February 6 for the next me
 eting of the Gunny GoodReads Book Club. Read &amp; discuss: Lady Tan&#8217;
 s Circle of Women by Lisa See From a young age\,  Yunxian learns about wome
 n’s illnesses\,  many of which relate to childbearing\,  alongside a youn
 g midwife-in-training\,  Meiling.[..]\nhttps://www.gunnisoncountylibraries.
 org/events/gunny-goodreads-book-club-february/
URL:https://www.gunnisoncountylibraries.org/events/gunny-goodreads-book-club-february/
END:VEVENT
END:VCALENDAR