BEGIN:VCALENDAR
VERSION:2.0
PRODID:-//eventon.com NONSGML v1.0//EN
CALSCALE:GREGORIAN
METHOD:PUBLISH
BEGIN:VEVENT
UID:69ea50318d1c8
DTSTAMP:20260423T170033Z
DTSTART:20250111T213000Z
DTEND:20250111T223000Z
LOCATION:Gunnison Library 1 Quartz Street\,  Gunnison\,  CO 81230
SUMMARY:Super Saturday Storytime!
DESCRIPTION:Join us at the Gunnison Library at 10:30 am on Saturday\,  Janu
 ary 11 for Super Saturday Storytime. January&#8217;s theme is Hibernation H
 angout!  There will be stories and an activity for the whole family. Wear 
 your coziest pajamas! Free &amp; open to the public.\nhttps://www.gunnisonc
 ountylibraries.org/events/super-saturday-storytime-january/
URL:https://www.gunnisoncountylibraries.org/events/super-saturday-storytime-january/
END:VEVENT
END:VCALENDAR