BEGIN:VCALENDAR
VERSION:2.0
PRODID:-//eventon.com NONSGML v1.0//EN
CALSCALE:GREGORIAN
METHOD:PUBLISH
BEGIN:VEVENT
UID:69ea2bb1864a7
DTSTAMP:20260423T142449Z
DTSTART:20250115T230000Z
DTEND:20250116T003000Z
LOCATION:Crested Butte Library
SUMMARY:Novel Tea Book Club: January 2025
DESCRIPTION:The Novel Tea Book Club will meet at the Crested Butte Library 
 on Wednesday\,  January 15\,  at 12 pm to discuss The Covenant of Water by 
 Abraham Verghese From the New York Times-bestselling author of Cutting for 
 Stone comes a stunning and magisterial epic of love\,  faith\,  and medicin
 e\,  set[..]\nhttps://www.gunnisoncountylibraries.org/events/novel-tea-book
 -club-january-2025/
URL:https://www.gunnisoncountylibraries.org/events/novel-tea-book-club-january-2025/
END:VEVENT
END:VCALENDAR