BEGIN:VCALENDAR
VERSION:2.0
PRODID:-//eventon.com NONSGML v1.0//EN
CALSCALE:GREGORIAN
METHOD:PUBLISH
BEGIN:VEVENT
UID:69e6302eada2f
DTSTAMP:20260420T135454Z
DTSTART:20250110T050000Z
DTEND:20250110T063000Z
LOCATION:Crested Butte Library
SUMMARY:Old Rock Movie Night
DESCRIPTION:Join us at the Crested Butte Library on Thursday\,  January 9 a
 t 6 pm for a free movie night! Free pizza! Bring a camp chair &amp; blanket
 ! Screening: My Cousin Vinny (1992) Two New Yorkers accused of murder in ru
 ral Alabama while on their way back to college call in[..]\nhttps://www.gun
 nisoncountylibraries.org/events/old-rock-movie-night/
URL:https://www.gunnisoncountylibraries.org/events/old-rock-movie-night/
END:VEVENT
END:VCALENDAR