BEGIN:VCALENDAR
VERSION:2.0
PRODID:-//eventon.com NONSGML v1.0//EN
CALSCALE:GREGORIAN
METHOD:PUBLISH
BEGIN:VEVENT
UID:69ebc5ffc3670
DTSTAMP:20260424T193527Z
DTSTART:20241207T213000Z
DTEND:20241207T230000Z
LOCATION:Gunnison Library 1 Quartz Street\,  Gunnison\,  CO 81230
SUMMARY:Santa Storytime!
DESCRIPTION:Please join us at the Gunnison Library at 10:30 am on Saturday\
 ,  December 7 for story time with Santa! Enjoy some cozy holiday stories re
 ad by Kris Kringle himself. There will be cookies and cocoa as well as a ca
 ndy cane craft! This event is free &amp; open to the[..]\nhttps://www.gunni
 soncountylibraries.org/events/santa-storytime-2024/
URL:https://www.gunnisoncountylibraries.org/events/santa-storytime-2024/
END:VEVENT
END:VCALENDAR