BEGIN:VCALENDAR
VERSION:2.0
PRODID:-//eventon.com NONSGML v1.0//EN
CALSCALE:GREGORIAN
METHOD:PUBLISH
BEGIN:VEVENT
UID:69e4fdbe1a390
DTSTAMP:20260419T160726Z
DTSTART:20241120T230000Z
DTEND:20241121T003000Z
LOCATION:Crested Butte Library
SUMMARY:Novel Tea Book Club
DESCRIPTION:The Novel Tea Book Club will meet on Wednesday\,  November 20\,
   at 12 pm to discuss The Thursday Murder Club by Richard Osman. In a peace
 ful retirement village\,  four unlikely friends meet weekly in the Jigsaw R
 oom to discuss unsolved crimes; together they call themselves the Thursday 
 Murder Club. When[..]\nhttps://www.gunnisoncountylibraries.org/events/novel
 -tea-book-club-23/
URL:https://www.gunnisoncountylibraries.org/events/novel-tea-book-club-23/
END:VEVENT
END:VCALENDAR