BEGIN:VCALENDAR
VERSION:2.0
PRODID:-//eventon.com NONSGML v1.0//EN
CALSCALE:GREGORIAN
METHOD:PUBLISH
BEGIN:VEVENT
UID:69eb5d003d3b3
DTSTAMP:20260424T120728Z
DTSTART:20241110T033000Z
DTEND:20241110T050000Z
LOCATION:Majestic Theatre Crested Butte
SUMMARY:Majestic Movie Series: Marcel the Shell with Shoes On
DESCRIPTION:Join us at the Majestic Theater in Crested Butte at 4:30pm on S
 aturday\,  November 9 for a FREE screening of Marcel the Shell with Shoes O
 n 2021 | Rated PG | 1 hr\,  30 min A cash-strapped documentary maker decide
 s to make his newest documentary about a mollusk shell he[..]\nhttps://www.
 gunnisoncountylibraries.org/events/majestic-movie-series-marcel-the-shell/
URL:https://www.gunnisoncountylibraries.org/events/majestic-movie-series-marcel-the-shell/
END:VEVENT
END:VCALENDAR