BEGIN:VCALENDAR
VERSION:2.0
PRODID:-//eventon.com NONSGML v1.0//EN
CALSCALE:GREGORIAN
METHOD:PUBLISH
BEGIN:VEVENT
UID:69e521d57491c
DTSTAMP:20260419T184125Z
DTSTART:20241103T010000Z
DTEND:20241103T030000Z
LOCATION:Gunnison Library 1 Quartz Street\,  Gunnison\,  CO 81230
SUMMARY:Winter Clothing Swap!
DESCRIPTION:Join us at the Gunnison Library from 2-4pm on Saturday\,  Novem
 ber 2 for a Winter Clothing Swap! Accepting gently used Winter Clothing and
  Accessories for ALL AGES at the front desk until the day of the swap. Ther
 e is no need to contribute to participate! Let&#8217;s keep each other warm
 [..]\nhttps://www.gunnisoncountylibraries.org/events/winter-clothing-swap/
URL:https://www.gunnisoncountylibraries.org/events/winter-clothing-swap/
END:VEVENT
END:VCALENDAR