BEGIN:VCALENDAR
VERSION:2.0
PRODID:-//eventon.com NONSGML v1.0//EN
CALSCALE:GREGORIAN
METHOD:PUBLISH
BEGIN:VEVENT
UID:69ebf0d87e88b
DTSTAMP:20260424T223816Z
DTSTART:20241025T013000Z
DTEND:20241025T070000Z
LOCATION:Old Rock Library &amp; Sunset Hall in CB South
SUMMARY:New Library Design Workshop in CB
DESCRIPTION:Join us in Crested Butte on Thursday\,  October 24 for an oppor
 tunity to meet with architects from Studiotrope Design Collective and contr
 ibute your ideas for the new library project in Crested Butte South. From 2
 -5pm we will host a Design Open House at the Old Rock Library and from 6:30
 -8pm[..]\nhttps://www.gunnisoncountylibraries.org/events/new-library-design
 -workshop-cb/
URL:https://www.gunnisoncountylibraries.org/events/new-library-design-workshop-cb/
END:VEVENT
END:VCALENDAR