BEGIN:VCALENDAR
VERSION:2.0
PRODID:-//eventon.com NONSGML v1.0//EN
CALSCALE:GREGORIAN
METHOD:PUBLISH
BEGIN:VEVENT
UID:69eb49f378ede
DTSTAMP:20260424T104611Z
DTSTART:20241023T233000Z
DTEND:20241024T070000Z
LOCATION:Gunnison Library 1 Quartz Street\,  Gunnison\,  CO 81230
SUMMARY:New Library Design Workshop in Gunnison
DESCRIPTION:Join us at the Gunnison Library on Wednesday\,  October 23 for 
 an opportunity to meet with architects from Studiotrope Design Collective a
 nd contribute your ideas for the new library project in Crested Butte South
 . From 12:30-2pm we will host a Community Design Workshop w/ Lunch and fro
 m 5-8pm we will host[..]\nhttps://www.gunnisoncountylibraries.org/events/ne
 w-library-design-workshop-gunnison/
URL:https://www.gunnisoncountylibraries.org/events/new-library-design-workshop-gunnison/
END:VEVENT
END:VCALENDAR