BEGIN:VCALENDAR
VERSION:2.0
PRODID:-//eventon.com NONSGML v1.0//EN
CALSCALE:GREGORIAN
METHOD:PUBLISH
BEGIN:VEVENT
UID:69eb46c615039
DTSTAMP:20260424T103238Z
DTSTART:20241104T030000Z
DTEND:20241104T050000Z
LOCATION:Gunnison Library 1 Quartz Street\,  Gunnison\,  CO 81230
SUMMARY:Author Visit: Jon Waterman
DESCRIPTION:Join us at the Gunnison Library at 4pm on Sunday\,  November 3 
 for a visit from author and photographer Jonathan Waterman. JON WATERMAN is
  an award-winning author and photographer renowned for his immersive explor
 ations of wilderness and environmental issues. Join us\,  along with Jon\, 
  to discuss his latest work detailing[..]\nhttps://www.gunnisoncountylibrar
 ies.org/events/jonwaterman/
URL:https://www.gunnisoncountylibraries.org/events/jonwaterman/
END:VEVENT
END:VCALENDAR