BEGIN:VCALENDAR
VERSION:2.0
PRODID:-//eventon.com NONSGML v1.0//EN
CALSCALE:GREGORIAN
METHOD:PUBLISH
BEGIN:VEVENT
UID:69eacce8219ce
DTSTAMP:20260424T015240Z
DTSTART:20241006T000000Z
DTEND:20241006T020000Z
LOCATION:
SUMMARY:New Library Site Visit & CB South Subdivision Groundbreaking!
DESCRIPTION:Join us at 1pm at the corner of Elcho Avenue and Glacier Street
  in Crested Butte South on Saturday\,  October 5 for a New Library Site Vis
 it &amp; CB South Subdivision Groundbreaking! Learn about the new library p
 roject and contribute your ideas!\nhttps://www.gunnisoncountylibraries.org/
 events/new-library-site-visit-cb-south-subdivision-groundbreaking/
URL:https://www.gunnisoncountylibraries.org/events/new-library-site-visit-cb-south-subdivision-groundbreaking/
END:VEVENT
END:VCALENDAR